BEGIN:VCALENDAR
VERSION:2.0
PRODID:-//ddaysoftware.com//NONSGML DDay.iCal 1.0//EN
BEGIN:VEVENT
DESCRIPTION:THIS IS IT - THE FINAL DAY..... Over 400 brand new appliances i
 n boxes\, 2 trailer loads of patio
DTEND;TZID=America/Vancouver:20260513T173000
DTSTAMP:20260422T120646Z
DTSTART;TZID=America/Vancouver:20260513T093000
LOCATION:Langley
ORGANIZER:MAILTO:
SEQUENCE:0
SUMMARY:WESTCOAST APPLIANCE CLOSURE DAY 5 ON-LINE AUCTION
UID:5bf78659-9803-4451-b337-0e10ae6894b6
END:VEVENT
END:VCALENDAR
