BEGIN:VCALENDAR
VERSION:2.0
PRODID:-//ddaysoftware.com//NONSGML DDay.iCal 1.0//EN
BEGIN:VEVENT
DESCRIPTION:Details to come!
DTEND;TZID=America/Vancouver:20260520T173000
DTSTAMP:20260422T120644Z
DTSTART;TZID=America/Vancouver:20260520T093000
LOCATION:Langley
ORGANIZER:MAILTO:
SEQUENCE:0
SUMMARY:INDUSTRIAL & VEHICLE ON-LINE AUCTION
UID:88efd990-c01c-4858-971c-e257632bdfc3
END:VEVENT
END:VCALENDAR
