BEGIN:VCALENDAR
VERSION:2.0
PRODID:-//ddaysoftware.com//NONSGML DDay.iCal 1.0//EN
BEGIN:VEVENT
DESCRIPTION:Everything you need to launch\, upgrade or expand your culinary
  vision.  More details & pictures
DTEND;TZID=America/Vancouver:20260514T173000
DTSTAMP:20260422T120646Z
DTSTART;TZID=America/Vancouver:20260514T093000
LOCATION:Surrey
ORGANIZER:MAILTO:
SEQUENCE:0
SUMMARY:RESTAURANT ON-LINE AUCTION
UID:0a73e837-38ac-4df0-b817-d4d5f884bcee
END:VEVENT
END:VCALENDAR
