BEGIN:VCALENDAR
VERSION:2.0
PRODID:-//ddaysoftware.com//NONSGML DDay.iCal 1.0//EN
BEGIN:VEVENT
DESCRIPTION:details to come! 
DTEND;TZID=America/Vancouver:20260512T173000
DTSTAMP:20260423T120516Z
DTSTART;TZID=America/Vancouver:20260512T093000
LOCATION:Langley
ORGANIZER:MAILTO:
SEQUENCE:0
SUMMARY:JEWELRY ON-LINE AUCTION  
UID:c8c2d68d-34e2-4315-a742-ca52489f79ab
END:VEVENT
END:VCALENDAR
