BEGIN:VCALENDAR
VERSION:2.0
PRODID:-//ddaysoftware.com//NONSGML DDay.iCal 1.0//EN
BEGIN:VEVENT
DESCRIPTION:2 Locations within Vancouver including: refrigeration\, freezer
 s\, racking\, inventory from pop to dog
DTEND;TZID=America/Vancouver:20260514T173000
DTSTAMP:20260424T121053Z
DTSTART;TZID=America/Vancouver:20260514T093000
LOCATION:Vancouver x 2
ORGANIZER:MAILTO:
SEQUENCE:0
SUMMARY:GROCERY STORE 2 LOCATION ON-LINE AUCTION
UID:8ba14b09-e148-42fd-8fb1-c200183a0e4e
END:VEVENT
END:VCALENDAR
